BEGIN:VCALENDAR
VERSION:2.0
CALSCALE:GREGORIAN
PRODID:adamgibbons/ics
METHOD:PUBLISH
X-PUBLISHED-TTL:PT1H
BEGIN:VEVENT
UID:1623@montreall.askapunk.net
SUMMARY:Hazy Oak - Saint Willow - King Death à l'Hémisphère Gauche
DTSTAMP:20260426T020529Z
DTSTART:20260530T230000Z
DESCRIPTION:Une soirée de rock sombre et éclectique avec trois groupes de l
	a scène locale\nMontréalaise.\n\nA night of gloomy and eclectic rock with 
	three bands of the Montreal local\nscene.\n\n\n\nHazy Oak: https://hazyoak
	.bandcamp.com/ [https://hazyoak.bandcamp.com/]\n\nPop punk avec des influe
	nces rock et métal\n\n\n\nSaint Willow: https://www.instagram.com/saint.wi
	llow/\n[https://www.instagram.com/saint.willow/]\n\nRock alternatif avec d
	es influences de shoegaze et doom métal\n\n\n\nKing Death: https://www.ins
	tagram.com/kingdeathmtl/\n[https://www.instagram.com/kingdeathmtl/]\n\nGot
	h Pop Motorique\n\n\n\nPorte: 19hrs\n\nShow: 20hrs\n\n15$ à la porte\, cas
	h seulement\n\nPersonne ne sera refusé par manque de fonds (NOTAFLOF)
URL:https://montreal.askapunk.net/event/hazy-oak-saint-willow-king-death-a-
	lhemisphere-gauche
LOCATION:l'Hémisphère Gauche - 221 Rue Beaubien E
STATUS:CONFIRMED
CATEGORIES:
X-ALT-DESC;FMTTYPE=text/html:<p>Une soirée de rock sombre et éclectique ave
	c trois groupes de la scène locale Montréalaise.</p><p>A night of gloomy a
	nd eclectic rock with three bands of the Montreal local scene.</p><p></p><
	p>Hazy Oak: <a href="https://hazyoak.bandcamp.com/" target="_blank">https:
	//hazyoak.bandcamp.com/</a></p><p>Pop punk avec des influences rock et mét
	al</p><p></p><p>Saint Willow: <a href="https://www.instagram.com/saint.wil
	low/" target="_blank">https://www.instagram.com/saint.willow/</a></p><p>Ro
	ck alternatif avec des influences de shoegaze et doom métal</p><p></p><p>K
	ing Death: <a href="https://www.instagram.com/kingdeathmtl/" target="_blan
	k">https://www.instagram.com/kingdeathmtl/</a></p><p>Goth Pop Motorique</p
	><p></p><p>Porte: 19hrs</p><p>Show: 20hrs</p><p>15$ à la porte, cash seule
	ment</p><p>Personne ne sera refusé par manque de fonds (NOTAFLOF)</p>
BEGIN:VALARM
ACTION:DISPLAY
DESCRIPTION:Hazy Oak - Saint Willow - King Death à l'Hémisphère Gauche
TRIGGER:-PT1H
END:VALARM
END:VEVENT
END:VCALENDAR
