BEGIN:VCALENDAR
VERSION:2.0
CALSCALE:GREGORIAN
PRODID:adamgibbons/ics
METHOD:PUBLISH
X-PUBLISHED-TTL:PT1H
BEGIN:VEVENT
UID:1622@montreall.askapunk.net
SUMMARY:Hood Rats + Balm Squad + Adictox + Street Trash
DTSTAMP:20260424T155941Z
DTSTART:20260523T180000Z
DTEND:20260524T000000Z
URL:https://montreal.askapunk.net/event/hood-rats-balm-squad-adictox-street
	-trash
LOCATION:Fattal Parking Lot - Ask a Punk
STATUS:CONFIRMED
CATEGORIES:
BEGIN:VALARM
ACTION:DISPLAY
DESCRIPTION:Hood Rats + Balm Squad + Adictox + Street Trash
TRIGGER:-PT1H
END:VALARM
END:VEVENT
END:VCALENDAR
