BEGIN:VCALENDAR
VERSION:2.0
CALSCALE:GREGORIAN
PRODID:adamgibbons/ics
METHOD:PUBLISH
X-PUBLISHED-TTL:PT1H
BEGIN:VEVENT
UID:1567@montreall.askapunk.net
SUMMARY:Montréal Oi! Fest (samedi): The Chisel + Cuir + The Young Ones + Lo
	st Legion + Toy Tiger + Esprit de Corps
DTSTAMP:20260425T234409Z
DTSTART:20260426T000000Z
DTEND:20260426T034500Z
URL:https://montreal.askapunk.net/event/montreal-oi-fest-samedi-the-chisel-
	cuir-the-young-ones-lost-legion-toy-tiger-esprit-de-corps
LOCATION:Foufounes Electriques - 87 Rue Sainte-Catherine Est H2X 1K6
STATUS:CONFIRMED
CATEGORIES:CUIR,Esprit de Corps,Lost Legion,The Chisel,The Young Ones,Toy T
	iger,oi fest
END:VEVENT
BEGIN:VEVENT
UID:1513@montreall.askapunk.net
SUMMARY:Sacrifice (Japon) + Public Acid + Outre-Tombe + Dissimulator | Same
	di 23 mai 2026
DTSTAMP:20260425T234409Z
DTSTART:20260523T233000Z
DTEND:20260524T150000Z
URL:https://montreal.askapunk.net/event/sacrifice-japon-public-acid-outre-t
	ombe-dissimulator-or-samedi-23-mai-2026
LOCATION:Foufounes Electriques - 87 Rue Sainte-Catherine Est H2X 1K6
STATUS:CONFIRMED
CATEGORIES:Les Foufounes Électriques,metalpunk,punk,thrash metal
END:VEVENT
BEGIN:VEVENT
UID:1580@montreall.askapunk.net
SUMMARY:EARSLAUGHTER VOL.8
DTSTAMP:20260425T234409Z
DTSTART:20260529T220000Z
DTEND:20260531T035500Z
URL:https://montreal.askapunk.net/event/earslaughter-vol8
LOCATION:Foufounes Electriques - 87 Rue Sainte-Catherine Est H2X 1K6
STATUS:CONFIRMED
CATEGORIES:
END:VEVENT
END:VCALENDAR
