BEGIN:VCALENDAR
VERSION:2.0
CALSCALE:GREGORIAN
PRODID:adamgibbons/ics
METHOD:PUBLISH
X-PUBLISHED-TTL:PT1H
BEGIN:VEVENT
UID:1585@montreall.askapunk.net
SUMMARY:MATINEE SHOW SATURDAY JUNE 6TH- DEADSKY (Pittsburg/Profane Existenc
	e Records)\, EULOGY (MTL)\, TRAUMATIC STATE (MTL)
DTSTAMP:20260426T033143Z
DTSTART:20260606T180000Z
DTEND:20260606T220000Z
URL:https://montreal.askapunk.net/event/matinee-show-saturday-june-6th-dead
	sky-pittsburgprofane-existence-records-eulogy-mtl-traumatic-state-mtl
LOCATION:Brasserie des Patriotes - 3363 Ontario Est
STATUS:CONFIRMED
CATEGORIES:crust punk,hardcore,punk
END:VEVENT
END:VCALENDAR
