BEGIN:VCALENDAR
VERSION:2.0
CALSCALE:GREGORIAN
PRODID:adamgibbons/ics
METHOD:PUBLISH
X-PUBLISHED-TTL:PT1H
BEGIN:VEVENT
UID:1579@montreall.askapunk.net
SUMMARY:BENEFIT GIG FOR VARNING XVIII // VOL. I /
DTSTAMP:20260425T234408Z
DTSTART:20260501T110000Z
URL:https://montreal.askapunk.net/event/benefit-gig-for-varning-xviii-vol-i
LOCATION:Cabaret Foufounes Electriques - 87 Rue Ste-Catherine E
STATUS:CONFIRMED
CATEGORIES:VARNING,Youth of Nausea
END:VEVENT
BEGIN:VEVENT
UID:1609@montreall.askapunk.net
SUMMARY:BENEFIT GIG FOR VARNING XVIII // VOL. II /
DTSTAMP:20260425T234408Z
DTSTART:20260704T230000Z
DTEND:20260705T035500Z
URL:https://montreal.askapunk.net/event/benefit-gig-for-varning-xviii-vol-i
	i
LOCATION:Cabaret Foufounes Electriques - 87 Rue Ste-Catherine E
STATUS:CONFIRMED
CATEGORIES:
END:VEVENT
END:VCALENDAR
