BEGIN:VCALENDAR
VERSION:2.0
CALSCALE:GREGORIAN
PRODID:adamgibbons/ics
METHOD:PUBLISH
X-PUBLISHED-TTL:PT1H
BEGIN:VEVENT
UID:1573@montreall.askapunk.net
SUMMARY:D.I.Y. Skill Sharing Day
DTSTAMP:20260419T135354Z
DTSTART:20260419T170000Z
DTEND:20260419T230000Z
URL:https://montreal.askapunk.net/event/diy-skill-sharing-day
LOCATION:Batiment 7 / Tapage - 1900 le Ber
STATUS:CONFIRMED
CATEGORIES:ACAB,ALL AGES,DIY,Garbage tech,Makers,workshop
END:VEVENT
BEGIN:VEVENT
UID:1595@montreall.askapunk.net
SUMMARY:Skill Faire anarchiste
DTSTAMP:20260419T135354Z
DTSTART:20260517T140000Z
DTEND:20260517T210000Z
URL:https://montreal.askapunk.net/event/skill-faire-anarchiste
LOCATION:CÉDA - 2515 rue Delisle\, Montréal\, QC H3J 1K8
STATUS:CONFIRMED
CATEGORIES:ALL AGES,DIY,Garbage tech,Makers,montreal diy,science fair,skill
	share
END:VEVENT
BEGIN:VEVENT
UID:1582@montreall.askapunk.net
SUMMARY:Nelligan + Airgun (ON) + Pity Fountain (ON) + Half Past April
DTSTAMP:20260419T135354Z
DTSTART:20260523T003000Z
DTEND:20260523T023000Z
URL:https://montreal.askapunk.net/event/nelligan-airgun-on-pity-fountain-on
	-half-past-april
LOCATION:Batiment 7 - 1900 Rue Le Ber
STATUS:CONFIRMED
CATEGORIES:ALL AGES,B7,Batiment 7,DIY,Emo,hardcore,metalcore,post-hardcore,
	screamo,skramz
END:VEVENT
BEGIN:VEVENT
UID:1586@montreall.askapunk.net
SUMMARY:GUTMACHINE + COMFORT OBJECT + PUBERTY WELL
DTSTAMP:20260419T135354Z
DTSTART:20260524T010000Z
DTEND:20260524T160000Z
URL:https://montreal.askapunk.net/event/gutmachine-comfort-object-puberty-w
	ell
LOCATION:Barfly - 4062A St Laurent\, Montréal\, Québec\, Canada
STATUS:CONFIRMED
CATEGORIES:DIY,Emo,PUBERTY WELL,barfly,comfort object,do it together,gutmac
	hine,screamo
END:VEVENT
END:VCALENDAR
