BEGIN:VCALENDAR
VERSION:2.0
CALSCALE:GREGORIAN
PRODID:adamgibbons/ics
METHOD:PUBLISH
X-PUBLISHED-TTL:PT1H
BEGIN:VEVENT
UID:1619@montreall.askapunk.net
SUMMARY:CROSS CHECK\, BREAKNECK (HFX)\, RECOVERY @ P’TIT OURS
DTSTAMP:20260423T060333Z
DTSTART:20260506T233000Z
DTEND:20260507T023000Z
URL:https://montreal.askapunk.net/event/cross-check-breakneck-hfx-recovery-
	ptit-ours
LOCATION:P’tit Ours - 5585 Avenue du Parc Montreal Quebec
STATUS:CONFIRMED
CATEGORIES:BREAKNECK,CROSS CHECK,Recovery,hardcore,ptit ours
END:VEVENT
END:VCALENDAR
