BEGIN:VCALENDAR
VERSION:2.0
CALSCALE:GREGORIAN
PRODID:adamgibbons/ics
METHOD:PUBLISH
X-PUBLISHED-TTL:PT1H
BEGIN:VEVENT
UID:1569@montreall.askapunk.net
SUMMARY:Magnetic Coroner / Primitive Isolation Tactics / Taskmaster / Orchi
	d Lodge / Sounding
DTSTAMP:20260419T200233Z
DTSTART:20260421T230000Z
DTEND:20260422T035500Z
URL:https://montreal.askapunk.net/event/magnetic-coroner-primitive-isolatio
	n-tactics-taskmaster-orchid-lodge-sounding
LOCATION:Error 403 - 170 Jean Talon O
STATUS:CONFIRMED
CATEGORIES:PRIMITIVE ISOLATION TACTICS,Scream and Writhe,TASKMASTER,experim
	ental,harsh noise,initial shock,magnetic coroner,noise,orchid lodge,soundi
	ng
END:VEVENT
BEGIN:VEVENT
UID:1552@montreall.askapunk.net
SUMMARY:Emeute productions presents: Magnolia Noir - Forêt Noir - Undergrou
	nd Fuzz - Quantum Quasar
DTSTAMP:20260419T200233Z
DTSTART:20260424T230000Z
DTEND:20260425T033000Z
URL:https://montreal.askapunk.net/event/emeute-productions-presents-magnoli
	a-noir-foret-noir-underground-fuzz-quantum-quasar
LOCATION:Piranha Bar - 680 Sainte-Catherine Ouest
STATUS:CONFIRMED
CATEGORIES:MTLDIY,experimental,noise,post-punk,punk
END:VEVENT
BEGIN:VEVENT
UID:1603@montreall.askapunk.net
SUMMARY:Camille Ly/Yohann Francoz + V.Vecker + Trio Infini (Touin/Foisy/Ven
	ne-Deshaies)
DTSTAMP:20260419T200233Z
DTSTART:20260506T233000Z
DTEND:20260507T033000Z
URL:https://montreal.askapunk.net/event/camille-lyyohann-francoz-vvecker-tr
	io-infini-touinfoisyvenne-deshaies
LOCATION:Error 403 - 170 Jean Talon O
STATUS:CONFIRMED
CATEGORIES:La Loba,Small Scale Music,avant-jazz,experimental,free improvisa
	tion,free jazz,jazz,mardi spaghetti,noise
END:VEVENT
END:VCALENDAR
