BEGIN:VCALENDAR
VERSION:2.0
CALSCALE:GREGORIAN
PRODID:adamgibbons/ics
METHOD:PUBLISH
X-PUBLISHED-TTL:PT1H
BEGIN:VEVENT
UID:1618@montreall.askapunk.net
SUMMARY:TV FREAKS W/ PRIVATE LIVES AT BARFLY
DTSTAMP:20260423T013429Z
DTSTART:20260502T010000Z
DTEND:20260502T070000Z
URL:https://montreal.askapunk.net/event/tv-freaks-w-private-lives-at-barfly
LOCATION:Barfly - 4062A St Laurent\, Montréal\, Québec\, Canada
STATUS:CONFIRMED
CATEGORIES:barfly,montreal,privatelives,punk,rocknroll,tvfreaks
END:VEVENT
END:VCALENDAR
